

BEGIN:VCALENDAR
VERSION:2.0
PRODID:-//Marcq Aïkido - ECPv5.12.0//NONSGML v1.0//EN
CALSCALE:GREGORIAN
METHOD:PUBLISH
X-WR-CALNAME:Marcq Aïkido
X-ORIGINAL-URL:https://www.marcqaikido.com
X-WR-CALDESC:évènements pour Marcq Aïkido
BEGIN:VTIMEZONE
TZID:Europe/Paris
BEGIN:DAYLIGHT
TZOFFSETFROM:+0100
TZOFFSETTO:+0200
TZNAME:CEST
DTSTART:20200329T010000
END:DAYLIGHT
BEGIN:STANDARD
TZOFFSETFROM:+0200
TZOFFSETTO:+0100
TZNAME:CET
DTSTART:20201025T010000
END:STANDARD
END:VTIMEZONE
BEGIN:VEVENT
DTSTART;TZID=Europe/Paris:20200614T080000
DTEND;TZID=Europe/Paris:20200614T170000
DTSTAMP:20260424T005746
CREATED:20190815T163456Z
LAST-MODIFIED:20190815T163456Z
UID:6787-1592121600-1592154000@www.marcqaikido.com
SUMMARY:Passage de grade 3e et 4e Dan 13 et 14 juin
DESCRIPTION:
URL:https://www.marcqaikido.com/event/passage-de-grade-3e-et-4e-dan-13-et-14-juin-2/
CATEGORIES:passage de grade 3e et 4e Dan
END:VEVENT
END:VCALENDAR