

BEGIN:VCALENDAR
VERSION:2.0
PRODID:-//Marcq Aïkido - ECPv5.12.0//NONSGML v1.0//EN
CALSCALE:GREGORIAN
METHOD:PUBLISH
X-WR-CALNAME:Marcq Aïkido
X-ORIGINAL-URL:https://www.marcqaikido.com
X-WR-CALDESC:évènements pour Marcq Aïkido
BEGIN:VTIMEZONE
TZID:Europe/Paris
BEGIN:DAYLIGHT
TZOFFSETFROM:+0100
TZOFFSETTO:+0200
TZNAME:CEST
DTSTART:20150329T010000
END:DAYLIGHT
BEGIN:STANDARD
TZOFFSETFROM:+0200
TZOFFSETTO:+0100
TZNAME:CET
DTSTART:20151025T010000
END:STANDARD
END:VTIMEZONE
BEGIN:VEVENT
DTSTART;TZID=Europe/Paris:20151010T143000
DTEND;TZID=Europe/Paris:20151010T173000
DTSTAMP:20260421T181957
CREATED:20150929T114425Z
LAST-MODIFIED:20151013T144522Z
UID:3724-1444487400-1444498200@www.marcqaikido.com
SUMMARY:Stage de ligue - Arnaud Waltz
DESCRIPTION:
URL:https://www.marcqaikido.com/event/test/
LOCATION:Vieux-Condé – Dojo\, Vieux-Condé\, Nord-Pas-de-Calais\, France
CATEGORIES:Stage de Ligue
END:VEVENT
END:VCALENDAR