

BEGIN:VCALENDAR
VERSION:2.0
PRODID:-//Marcq Aïkido - ECPv5.12.0//NONSGML v1.0//EN
CALSCALE:GREGORIAN
METHOD:PUBLISH
X-WR-CALNAME:Marcq Aïkido
X-ORIGINAL-URL:https://www.marcqaikido.com
X-WR-CALDESC:évènements pour Marcq Aïkido
BEGIN:VTIMEZONE
TZID:Europe/Paris
BEGIN:DAYLIGHT
TZOFFSETFROM:+0100
TZOFFSETTO:+0200
TZNAME:CEST
DTSTART:20150329T010000
END:DAYLIGHT
BEGIN:STANDARD
TZOFFSETFROM:+0200
TZOFFSETTO:+0100
TZNAME:CET
DTSTART:20151025T010000
END:STANDARD
END:VTIMEZONE
BEGIN:VEVENT
DTSTART;VALUE=DATE:20151016
DTEND;VALUE=DATE:20151017
DTSTAMP:20260421T182008
CREATED:20151016T135445Z
LAST-MODIFIED:20151016T135646Z
UID:4013-1444953600-1445039999@www.marcqaikido.com
SUMMARY:Stage Christian Tissier (7e Dan SHIHAN Aïkikaï de Tokyo)
DESCRIPTION:
URL:https://www.marcqaikido.com/event/stage-christian-tissier-shihan-7e-dan/
LOCATION:Wasquehal – Dojo régional (près de la patinoire) –\, 15 rue du Molinel\, Wasquehal\, Nord-Pas-de-Calais\, 59290\, France
CATEGORIES:Stage privé
END:VEVENT
END:VCALENDAR