

BEGIN:VCALENDAR
VERSION:2.0
PRODID:-//Marcq Aïkido - ECPv5.12.0//NONSGML v1.0//EN
CALSCALE:GREGORIAN
METHOD:PUBLISH
X-WR-CALNAME:Marcq Aïkido
X-ORIGINAL-URL:https://www.marcqaikido.com
X-WR-CALDESC:évènements pour Marcq Aïkido
BEGIN:VTIMEZONE
TZID:Europe/Paris
BEGIN:DAYLIGHT
TZOFFSETFROM:+0100
TZOFFSETTO:+0200
TZNAME:CEST
DTSTART:20150329T010000
END:DAYLIGHT
BEGIN:STANDARD
TZOFFSETFROM:+0200
TZOFFSETTO:+0100
TZNAME:CET
DTSTART:20151025T010000
END:STANDARD
END:VTIMEZONE
BEGIN:VEVENT
DTSTART;TZID=Europe/Paris:20151031T143000
DTEND;TZID=Europe/Paris:20151031T174500
DTSTAMP:20260421T164926
CREATED:20151012T093548Z
LAST-MODIFIED:20151012T093548Z
UID:3890-1446301800-1446313500@www.marcqaikido.com
SUMMARY:Stage Michel ERB 6e Dan à Marcq-en-Baroeul
DESCRIPTION:25 € pour un jour\, 40 € pour deux jours.
URL:https://www.marcqaikido.com/event/stage-michel-erb-6e-dan-a-marcq-en-baroeul/
LOCATION:Marcq-en-Baroeul – Dojo rue des entrepreneurs\, 11 rue des Entrepreneurs\, Marcq-en-Baroeul\, Nord-Pas-de-Calais\, 59\, France
CATEGORIES:Stage privé
END:VEVENT
END:VCALENDAR