

BEGIN:VCALENDAR
VERSION:2.0
PRODID:-//Marcq Aïkido - ECPv5.12.0//NONSGML v1.0//EN
CALSCALE:GREGORIAN
METHOD:PUBLISH
X-WR-CALNAME:Marcq Aïkido
X-ORIGINAL-URL:https://www.marcqaikido.com
X-WR-CALDESC:évènements pour Marcq Aïkido
BEGIN:VTIMEZONE
TZID:Europe/Paris
BEGIN:DAYLIGHT
TZOFFSETFROM:+0100
TZOFFSETTO:+0200
TZNAME:CEST
DTSTART:20150329T010000
END:DAYLIGHT
BEGIN:STANDARD
TZOFFSETFROM:+0200
TZOFFSETTO:+0100
TZNAME:CET
DTSTART:20151025T010000
END:STANDARD
END:VTIMEZONE
BEGIN:VEVENT
DTSTART;TZID=Europe/Paris:20151114T143000
DTEND;TZID=Europe/Paris:20151114T173000
DTSTAMP:20260421T165046
CREATED:20151013T143653Z
LAST-MODIFIED:20151013T144321Z
UID:3972-1447511400-1447522200@www.marcqaikido.com
SUMMARY:Stages de Ligue Enfants
DESCRIPTION:stage : 2 € \nSous la direction de Philippe Tramon et Catherine Louvart \n\n6 à 9 ans de 14h30 à 16h\n10 à 13 ans de 16h à 17h30\n\nApporter les jo !
URL:https://www.marcqaikido.com/event/stages-de-ligue-enfants/
LOCATION:Harnes – Dojo – Complexe sportif\, Chemin de la 2e voie\, Harnes\, Nord-Pas-de-Calais\, 62\, France
CATEGORIES:Stage de Ligue,stage Enfants
END:VEVENT
END:VCALENDAR