

BEGIN:VCALENDAR
VERSION:2.0
PRODID:-//Marcq Aïkido - ECPv5.12.0//NONSGML v1.0//EN
CALSCALE:GREGORIAN
METHOD:PUBLISH
X-WR-CALNAME:Marcq Aïkido
X-ORIGINAL-URL:https://www.marcqaikido.com
X-WR-CALDESC:évènements pour Marcq Aïkido
BEGIN:VTIMEZONE
TZID:Europe/Paris
BEGIN:DAYLIGHT
TZOFFSETFROM:+0100
TZOFFSETTO:+0200
TZNAME:CEST
DTSTART:20150329T010000
END:DAYLIGHT
BEGIN:STANDARD
TZOFFSETFROM:+0200
TZOFFSETTO:+0100
TZNAME:CET
DTSTART:20151025T010000
END:STANDARD
END:VTIMEZONE
BEGIN:VEVENT
DTSTART;TZID=Europe/Paris:20151123T180000
DTEND;TZID=Europe/Paris:20151123T203000
DTSTAMP:20260421T165016
CREATED:20151015T075357Z
LAST-MODIFIED:20151015T075357Z
UID:3983-1448301600-1448310600@www.marcqaikido.com
SUMMARY:Stage de Ligue : Aïkido au Féminin à Harnes
DESCRIPTION:
URL:https://www.marcqaikido.com/event/stage-de-ligue-aikido-au-feminin-a-harnes/
LOCATION:Harnes – Dojo – Complexe sportif\, Chemin de la 2e voie\, Harnes\, Nord-Pas-de-Calais\, 62\, France
CATEGORIES:Stage de Ligue,stage Enfants
END:VEVENT
END:VCALENDAR