

BEGIN:VCALENDAR
VERSION:2.0
PRODID:-//Marcq Aïkido - ECPv5.12.0//NONSGML v1.0//EN
CALSCALE:GREGORIAN
METHOD:PUBLISH
X-WR-CALNAME:Marcq Aïkido
X-ORIGINAL-URL:https://www.marcqaikido.com
X-WR-CALDESC:évènements pour Marcq Aïkido
BEGIN:VTIMEZONE
TZID:Europe/Paris
BEGIN:DAYLIGHT
TZOFFSETFROM:+0100
TZOFFSETTO:+0200
TZNAME:CEST
DTSTART:20150329T010000
END:DAYLIGHT
BEGIN:STANDARD
TZOFFSETFROM:+0200
TZOFFSETTO:+0100
TZNAME:CET
DTSTART:20151025T010000
END:STANDARD
END:VTIMEZONE
BEGIN:VEVENT
DTSTART;TZID=Europe/Paris:20151128T143000
DTEND;TZID=Europe/Paris:20151128T173000
DTSTAMP:20260421T165046
CREATED:20151015T080256Z
LAST-MODIFIED:20151015T080711Z
UID:3987-1448721000-1448731800@www.marcqaikido.com
SUMMARY:Stage de Ligue avec Josette Nickels et Philippe Tramon dans le cadre de la semaine Aïkido au féminin
DESCRIPTION:15 € ; féminines gratuit
URL:https://www.marcqaikido.com/event/stage-de-ligue-avec-josette-nickels-et-philippe-tramon-dans-le-cadre-de-la-semaine-aikido-au-feminin/
LOCATION:Escaudoeuvres – Dojo – Halle des sports\, Rue des Genets\, Escaudoeuvres\, Nord-Pas-de-Calais\, 59\, France
END:VEVENT
END:VCALENDAR