

BEGIN:VCALENDAR
VERSION:2.0
PRODID:-//Marcq Aïkido - ECPv5.12.0//NONSGML v1.0//EN
CALSCALE:GREGORIAN
METHOD:PUBLISH
X-WR-CALNAME:Marcq Aïkido
X-ORIGINAL-URL:https://www.marcqaikido.com
X-WR-CALDESC:évènements pour Marcq Aïkido
BEGIN:VTIMEZONE
TZID:Europe/Paris
BEGIN:DAYLIGHT
TZOFFSETFROM:+0100
TZOFFSETTO:+0200
TZNAME:CEST
DTSTART:20150329T010000
END:DAYLIGHT
BEGIN:STANDARD
TZOFFSETFROM:+0200
TZOFFSETTO:+0100
TZNAME:CET
DTSTART:20151025T010000
END:STANDARD
END:VTIMEZONE
BEGIN:VEVENT
DTSTART;TZID=Europe/Paris:20151219T143000
DTEND;TZID=Europe/Paris:20151219T173000
DTSTAMP:20260421T152002
CREATED:20151015T081151Z
LAST-MODIFIED:20151015T081151Z
UID:3992-1450535400-1450546200@www.marcqaikido.com
SUMMARY:Stage de Ligue avec Bruno Zanotti à Vieux-Condé
DESCRIPTION:
URL:https://www.marcqaikido.com/event/stage-de-ligue-avec-bruno-zanotti-a-vieux-conde/
LOCATION:Vieux-Condé – Dojo\, Vieux-Condé\, Nord-Pas-de-Calais\, France
CATEGORIES:Stage de Ligue
END:VEVENT
END:VCALENDAR