

BEGIN:VCALENDAR
VERSION:2.0
PRODID:-//Marcq Aïkido - ECPv5.12.0//NONSGML v1.0//EN
CALSCALE:GREGORIAN
METHOD:PUBLISH
X-WR-CALNAME:Marcq Aïkido
X-ORIGINAL-URL:https://www.marcqaikido.com
X-WR-CALDESC:évènements pour Marcq Aïkido
BEGIN:VTIMEZONE
TZID:Europe/Paris
BEGIN:DAYLIGHT
TZOFFSETFROM:+0100
TZOFFSETTO:+0200
TZNAME:CEST
DTSTART:20160327T010000
END:DAYLIGHT
BEGIN:STANDARD
TZOFFSETFROM:+0200
TZOFFSETTO:+0100
TZNAME:CET
DTSTART:20161030T010000
END:STANDARD
END:VTIMEZONE
BEGIN:VEVENT
DTSTART;TZID=Europe/Paris:20160109T150000
DTEND;TZID=Europe/Paris:20160110T120000
DTSTAMP:20260421T134057
CREATED:20151209T223808Z
LAST-MODIFIED:20151209T223808Z
UID:4088-1452351600-1452427200@www.marcqaikido.com
SUMMARY:Stage Niten Ryu (Deux sabres) avec Alain Vivier à Armentières
DESCRIPTION:
URL:https://www.marcqaikido.com/event/stage-niten-ryu-deux-sabres-avec-alain-vivier-a-armentieres/
LOCATION:Armentières – Nouveau dojo – rue de l’octroi\, 8 rue de l'octroi\, Armentières\, Nord-Pas-de-Calais\, 59\, France Métropolitaine
CATEGORIES:Stage privé
END:VEVENT
BEGIN:VEVENT
DTSTART;TZID=Europe/Paris:20160110T093000
DTEND;TZID=Europe/Paris:20160110T120000
DTSTAMP:20260421T134057
CREATED:20151015T081708Z
LAST-MODIFIED:20151015T081708Z
UID:3994-1452418200-1452427200@www.marcqaikido.com
SUMMARY:Initiation au Ninten Ryu (2 sabres) et relation avec la pratique à mains nues par Alain Vivier (4e Dan)\, élève de Jean-Michel Mérit.
DESCRIPTION:
URL:https://www.marcqaikido.com/event/initiation-au-ninten-ryu-2-sabres-et-relation-avec-la-pratique-a-mains-nues-par-alain-vivier-4e-dan-eleve-de-jean-michel-merit/
LOCATION:Armentières – Halle sportive Jean Zay –\, 8\, Rue de l'Octroi\, Armentières\, Nord-Pas-de-Calais\, 59\, France
CATEGORIES:Stage privé
END:VEVENT
END:VCALENDAR