

BEGIN:VCALENDAR
VERSION:2.0
PRODID:-//Marcq Aïkido - ECPv5.12.0//NONSGML v1.0//EN
CALSCALE:GREGORIAN
METHOD:PUBLISH
X-WR-CALNAME:Marcq Aïkido
X-ORIGINAL-URL:https://www.marcqaikido.com
X-WR-CALDESC:évènements pour Marcq Aïkido
BEGIN:VTIMEZONE
TZID:Europe/Paris
BEGIN:DAYLIGHT
TZOFFSETFROM:+0100
TZOFFSETTO:+0200
TZNAME:CEST
DTSTART:20190331T010000
END:DAYLIGHT
BEGIN:STANDARD
TZOFFSETFROM:+0200
TZOFFSETTO:+0100
TZNAME:CET
DTSTART:20191027T010000
END:STANDARD
END:VTIMEZONE
BEGIN:VEVENT
DTSTART;TZID=Europe/Paris:20191006T100000
DTEND;TZID=Europe/Paris:20191006T120000
DTSTAMP:20260423T093328
CREATED:20190815T153139Z
LAST-MODIFIED:20191004T121036Z
UID:6717-1570356000-1570363200@www.marcqaikido.com
SUMMARY:Stage de ligue - 5 et 6 oct. - Arnaud Waltz (7e Dan)
DESCRIPTION:
URL:https://www.marcqaikido.com/event/stage-de-ligue-arnaud-waltz-7e-dan-2/
LOCATION:Salle Calypso\, Rue Roger Martin du Gard\, Calais\, hauts-de-France\, 62100\, France
CATEGORIES:Stage de Ligue
END:VEVENT
END:VCALENDAR