

BEGIN:VCALENDAR
VERSION:2.0
PRODID:-//Marcq Aïkido - ECPv5.12.0//NONSGML v1.0//EN
CALSCALE:GREGORIAN
METHOD:PUBLISH
X-WR-CALNAME:Marcq Aïkido
X-ORIGINAL-URL:https://www.marcqaikido.com
X-WR-CALDESC:évènements pour Marcq Aïkido
BEGIN:VTIMEZONE
TZID:Europe/Paris
BEGIN:DAYLIGHT
TZOFFSETFROM:+0100
TZOFFSETTO:+0200
TZNAME:CEST
DTSTART:20190331T010000
END:DAYLIGHT
BEGIN:STANDARD
TZOFFSETFROM:+0200
TZOFFSETTO:+0100
TZNAME:CET
DTSTART:20191027T010000
END:STANDARD
END:VTIMEZONE
BEGIN:VEVENT
DTSTART;TZID=Europe/Paris:20191214T140000
DTEND;TZID=Europe/Paris:20191214T170000
DTSTAMP:20260423T111313
CREATED:20190815T160348Z
LAST-MODIFIED:20190815T160348Z
UID:6743-1576332000-1576342800@www.marcqaikido.com
SUMMARY:Stage privé Marc Bachraty (6e Dan)
DESCRIPTION:
URL:https://www.marcqaikido.com/event/stage-prive-marc-bachraty-6e-dan/
LOCATION:Wattignies – Salle Pierre de Coubertin –\, 4\, Rue Gagarine\, Wattignies\, Nord-Pas-de-Calais\, 59\, France Métropolitaine
CATEGORIES:Stage privé
END:VEVENT
END:VCALENDAR