

BEGIN:VCALENDAR
VERSION:2.0
PRODID:-//Marcq Aïkido - ECPv5.12.0//NONSGML v1.0//EN
CALSCALE:GREGORIAN
METHOD:PUBLISH
X-WR-CALNAME:Marcq Aïkido
X-ORIGINAL-URL:https://www.marcqaikido.com
X-WR-CALDESC:évènements pour Marcq Aïkido
BEGIN:VTIMEZONE
TZID:Europe/Paris
BEGIN:DAYLIGHT
TZOFFSETFROM:+0100
TZOFFSETTO:+0200
TZNAME:CEST
DTSTART:20220327T010000
END:DAYLIGHT
BEGIN:STANDARD
TZOFFSETFROM:+0200
TZOFFSETTO:+0100
TZNAME:CET
DTSTART:20221030T010000
END:STANDARD
END:VTIMEZONE
BEGIN:VEVENT
DTSTART;TZID=Europe/Paris:20220108T143000
DTEND;TZID=Europe/Paris:20220108T173000
DTSTAMP:20260422T174153
CREATED:20220103T145032Z
LAST-MODIFIED:20220103T145032Z
UID:7810-1641652200-1641663000@www.marcqaikido.com
SUMMARY:Stage de ligue - Patrick BENEZI
DESCRIPTION:
URL:https://www.marcqaikido.com/event/stage-de-ligue-patrick-benezi-2/
LOCATION:Maubeuge – Salle Léo Lagrange\, Allée André Géo\, Maubeuge\, Nord-Pas-de-Calais\, 59600\, France
END:VEVENT
END:VCALENDAR